BEGIN:VCALENDAR
VERSION:2.0
PRODID:-//wp-events-plugin.com//7.2.3.1//EN
TZID:Europe/Brussels
X-WR-TIMEZONE:Europe/Brussels
BEGIN:VEVENT
UID:2@clubdenbiechtstoel.be
DTSTART;TZID=Europe/Brussels:20250926T210000
DTEND;TZID=Europe/Brussels:20300629T020000
DTSTAMP:20251212T122211Z
URL:https://clubdenbiechtstoel.be/events/slutty-kinky-fetish-party/
SUMMARY:Slutty Kinky Fetish Party
DESCRIPTION:Inkom: Single Heren €70\, Koppels €35\, Travesties €25\,
  Dames €10.\nDresscode: lingerie\, kinky of fetish kledij.\nDranken en e
 ten inbegrepen in de prijs.\n\nVanavond helpt Mr. Benny je alle technieke
 n van Bondage ontdekken.\nKinky\, bondage op een aangename manier met een 
 tikkeltje erotiek en sensualiteit.\n\nKinky/SM gerichte fetisj speelavond 
 met een erotische tint.\nKeuring\, bondage\, golden shower en verkennende 
 proefsessie door aanwezige gast.\nVeilig\, discreet en plezant kennis make
 n met BDSM en extreme erotieke vormen.\n\nDit is geen traditionele SM part
 y maar alle SM vormen en fetisjen mogelijk mits respect van anderen.\n\nVe
 rschillende hangpunten aanwezig\, grote kooi\, elektrische takel\, spankin
 gbanken\, en veel meer.\n\nVerscheidene speelattributen aanwezig.\nRuime i
 ngerichte BDSM zolder.\n\n&nbsp\;
ATTACH;FMTTYPE=image/jpeg:https://clubdenbiechtstoel.be/wp-content/uploads
 /2022/08/pexels-alexander-krivitskiy-11104888.jpg
END:VEVENT
BEGIN:VTIMEZONE
TZID:Europe/Brussels
X-LIC-LOCATION:Europe/Brussels
BEGIN:DAYLIGHT
DTSTART:20250330T030000
TZOFFSETFROM:+0100
TZOFFSETTO:+0200
TZNAME:CEST
END:DAYLIGHT
BEGIN:STANDARD
DTSTART:20251026T020000
TZOFFSETFROM:+0200
TZOFFSETTO:+0100
TZNAME:CET
END:STANDARD
BEGIN:DAYLIGHT
DTSTART:20260329T030000
TZOFFSETFROM:+0100
TZOFFSETTO:+0200
TZNAME:CEST
END:DAYLIGHT
BEGIN:STANDARD
DTSTART:20261025T020000
TZOFFSETFROM:+0200
TZOFFSETTO:+0100
TZNAME:CET
END:STANDARD
BEGIN:DAYLIGHT
DTSTART:20270328T030000
TZOFFSETFROM:+0100
TZOFFSETTO:+0200
TZNAME:CEST
END:DAYLIGHT
BEGIN:STANDARD
DTSTART:20271031T020000
TZOFFSETFROM:+0200
TZOFFSETTO:+0100
TZNAME:CET
END:STANDARD
BEGIN:DAYLIGHT
DTSTART:20280326T030000
TZOFFSETFROM:+0100
TZOFFSETTO:+0200
TZNAME:CEST
END:DAYLIGHT
BEGIN:STANDARD
DTSTART:20281029T020000
TZOFFSETFROM:+0200
TZOFFSETTO:+0100
TZNAME:CET
END:STANDARD
BEGIN:DAYLIGHT
DTSTART:20290325T030000
TZOFFSETFROM:+0100
TZOFFSETTO:+0200
TZNAME:CEST
END:DAYLIGHT
BEGIN:STANDARD
DTSTART:20291028T020000
TZOFFSETFROM:+0200
TZOFFSETTO:+0100
TZNAME:CET
END:STANDARD
BEGIN:DAYLIGHT
DTSTART:20300331T030000
TZOFFSETFROM:+0100
TZOFFSETTO:+0200
TZNAME:CEST
END:DAYLIGHT
END:VTIMEZONE
END:VCALENDAR