BEGIN:VCALENDAR
VERSION:2.0
PRODID:-//wp-events-plugin.com//7.2.3.1//EN
TZID:Europe/Brussels
X-WR-TIMEZONE:Europe/Brussels
BEGIN:VEVENT
UID:2072@clubdenbiechtstoel.be
DTSTART;TZID=Europe/Brussels:20251003T210000
DTEND;TZID=Europe/Brussels:20300908T020000
DTSTAMP:20260225T085012Z
URL:https://clubdenbiechtstoel.be/events/naturistenavond-op-vrijdag/
SUMMARY:Naturistenavond op vrijdag
DESCRIPTION:Inkom: Single heren – 70€\, Koppels – 35€\, Travesties 
 – 30€\, Dames – €10 (drank)\n\nElke eerste vrijdag van de maand is
  het Naturistenavond!\nDresscode is letterlijk naakt.\n\nHet enige kostuum
  dat je deze avond mag dragen is dat van Adam en Eva!\n\nToegang: reservat
 ie is VERPLICHT.\nSMS naar +32 476 349 681 en wacht op een bevestiging.\nL
 et op\, **enkel SMS**\, ik beantwoord geen telefoons
ATTACH;FMTTYPE=image/jpeg:https://clubdenbiechtstoel.be/wp-content/uploads
 /2018/10/www.maxpixel.net-Naked-Nude-Loch-Nature-Water-Scenic-Model-301673
 7.jpg
END:VEVENT
BEGIN:VTIMEZONE
TZID:Europe/Brussels
X-LIC-LOCATION:Europe/Brussels
BEGIN:DAYLIGHT
DTSTART:20250330T030000
TZOFFSETFROM:+0100
TZOFFSETTO:+0200
TZNAME:CEST
END:DAYLIGHT
BEGIN:STANDARD
DTSTART:20251026T020000
TZOFFSETFROM:+0200
TZOFFSETTO:+0100
TZNAME:CET
END:STANDARD
BEGIN:DAYLIGHT
DTSTART:20260329T030000
TZOFFSETFROM:+0100
TZOFFSETTO:+0200
TZNAME:CEST
END:DAYLIGHT
BEGIN:STANDARD
DTSTART:20261025T020000
TZOFFSETFROM:+0200
TZOFFSETTO:+0100
TZNAME:CET
END:STANDARD
BEGIN:DAYLIGHT
DTSTART:20270328T030000
TZOFFSETFROM:+0100
TZOFFSETTO:+0200
TZNAME:CEST
END:DAYLIGHT
BEGIN:STANDARD
DTSTART:20271031T020000
TZOFFSETFROM:+0200
TZOFFSETTO:+0100
TZNAME:CET
END:STANDARD
BEGIN:DAYLIGHT
DTSTART:20280326T030000
TZOFFSETFROM:+0100
TZOFFSETTO:+0200
TZNAME:CEST
END:DAYLIGHT
BEGIN:STANDARD
DTSTART:20281029T020000
TZOFFSETFROM:+0200
TZOFFSETTO:+0100
TZNAME:CET
END:STANDARD
BEGIN:DAYLIGHT
DTSTART:20290325T030000
TZOFFSETFROM:+0100
TZOFFSETTO:+0200
TZNAME:CEST
END:DAYLIGHT
BEGIN:STANDARD
DTSTART:20291028T020000
TZOFFSETFROM:+0200
TZOFFSETTO:+0100
TZNAME:CET
END:STANDARD
BEGIN:DAYLIGHT
DTSTART:20300331T030000
TZOFFSETFROM:+0100
TZOFFSETTO:+0200
TZNAME:CEST
END:DAYLIGHT
END:VTIMEZONE
END:VCALENDAR